BEGIN:VCALENDAR
VERSION:2.0
PRODID:-//Lakeside Lanai House Concerts - ECPv6.15.20//NONSGML v1.0//EN
CALSCALE:GREGORIAN
METHOD:PUBLISH
X-WR-CALNAME:Lakeside Lanai House Concerts
X-ORIGINAL-URL:https://lakesidelanai.com
X-WR-CALDESC:Events for Lakeside Lanai House Concerts
REFRESH-INTERVAL;VALUE=DURATION:PT1H
X-Robots-Tag:noindex
X-PUBLISHED-TTL:PT1H
BEGIN:VTIMEZONE
TZID:UTC
BEGIN:STANDARD
TZOFFSETFROM:+0000
TZOFFSETTO:+0000
TZNAME:UTC
DTSTART:20240101T000000
END:STANDARD
END:VTIMEZONE
BEGIN:VEVENT
DTSTART;TZID=UTC:20250708T190000
DTEND;TZID=UTC:20250708T210000
DTSTAMP:20260422T090459
CREATED:20250130T035548Z
LAST-MODIFIED:20250612T190523Z
UID:69-1752001200-1752008400@lakesidelanai.com
SUMMARY:Heather Vidal
DESCRIPTION:Heather is an exceptional singer/songwriter who has been teaching and performing solo\, as well as part of several partnerships with Trop Rock musicians Dennis McCaughey\, Kristie Bobal\, and Lynley Tolls.  Her duo with Dennis\, known as Tropical Soul\, was recognized as the TRMA Duo/Trio of the year in 2013\, 2014\, and 2015. All proceeds are donations that go entirely to the musician.
URL:https://lakesidelanai.com/event/heather-vidal/
LOCATION:Lakeside Lanai\, 600 Lakeside Pass\, New Braunfels\, TX\, 78130\, United States
END:VEVENT
END:VCALENDAR