BEGIN:VCALENDAR
VERSION:2.0
PRODID:-//Lakeside Lanai House Concerts - ECPv6.15.20//NONSGML v1.0//EN
CALSCALE:GREGORIAN
METHOD:PUBLISH
X-WR-CALNAME:Lakeside Lanai House Concerts
X-ORIGINAL-URL:https://lakesidelanai.com
X-WR-CALDESC:Events for Lakeside Lanai House Concerts
REFRESH-INTERVAL;VALUE=DURATION:PT1H
X-Robots-Tag:noindex
X-PUBLISHED-TTL:PT1H
BEGIN:VTIMEZONE
TZID:America/Chicago
BEGIN:DAYLIGHT
TZOFFSETFROM:-0600
TZOFFSETTO:-0500
TZNAME:CDT
DTSTART:20240310T080000
END:DAYLIGHT
BEGIN:STANDARD
TZOFFSETFROM:-0500
TZOFFSETTO:-0600
TZNAME:CST
DTSTART:20241103T070000
END:STANDARD
BEGIN:DAYLIGHT
TZOFFSETFROM:-0600
TZOFFSETTO:-0500
TZNAME:CDT
DTSTART:20250309T080000
END:DAYLIGHT
BEGIN:STANDARD
TZOFFSETFROM:-0500
TZOFFSETTO:-0600
TZNAME:CST
DTSTART:20251102T070000
END:STANDARD
BEGIN:DAYLIGHT
TZOFFSETFROM:-0600
TZOFFSETTO:-0500
TZNAME:CDT
DTSTART:20260308T080000
END:DAYLIGHT
BEGIN:STANDARD
TZOFFSETFROM:-0500
TZOFFSETTO:-0600
TZNAME:CST
DTSTART:20261101T070000
END:STANDARD
END:VTIMEZONE
BEGIN:VEVENT
DTSTART;TZID=America/Chicago:20250914T150000
DTEND;TZID=America/Chicago:20250914T180000
DTSTAMP:20260422T045714
CREATED:20250604T172331Z
LAST-MODIFIED:20250612T190215Z
UID:218-1757862000-1757872800@lakesidelanai.com
SUMMARY:Cliff Cody
DESCRIPTION:Cliff Cody is an artist who has been playing in Key West at Hog’s Breath Saloon\, the Smoking Tuna\, and other venues. We are in luck since he is opening for Jamey Johnson in Helotes\, TX on Saturday the 13th. He will be entertaining us with his original songs\, as well as other favorite songs.
URL:https://lakesidelanai.com/event/cliff-cody/
LOCATION:Lakeside Lanai\, 600 Lakeside Pass\, New Braunfels\, TX\, 78130\, United States
END:VEVENT
END:VCALENDAR