BEGIN:VCALENDAR
VERSION:2.0
PRODID:-//Lakeside Lanai House Concerts - ECPv6.15.20//NONSGML v1.0//EN
CALSCALE:GREGORIAN
METHOD:PUBLISH
X-WR-CALNAME:Lakeside Lanai House Concerts
X-ORIGINAL-URL:https://lakesidelanai.com
X-WR-CALDESC:Events for Lakeside Lanai House Concerts
REFRESH-INTERVAL;VALUE=DURATION:PT1H
X-Robots-Tag:noindex
X-PUBLISHED-TTL:PT1H
BEGIN:VTIMEZONE
TZID:America/Chicago
BEGIN:DAYLIGHT
TZOFFSETFROM:-0600
TZOFFSETTO:-0500
TZNAME:CDT
DTSTART:20240310T080000
END:DAYLIGHT
BEGIN:STANDARD
TZOFFSETFROM:-0500
TZOFFSETTO:-0600
TZNAME:CST
DTSTART:20241103T070000
END:STANDARD
BEGIN:DAYLIGHT
TZOFFSETFROM:-0600
TZOFFSETTO:-0500
TZNAME:CDT
DTSTART:20250309T080000
END:DAYLIGHT
BEGIN:STANDARD
TZOFFSETFROM:-0500
TZOFFSETTO:-0600
TZNAME:CST
DTSTART:20251102T070000
END:STANDARD
BEGIN:DAYLIGHT
TZOFFSETFROM:-0600
TZOFFSETTO:-0500
TZNAME:CDT
DTSTART:20260308T080000
END:DAYLIGHT
BEGIN:STANDARD
TZOFFSETFROM:-0500
TZOFFSETTO:-0600
TZNAME:CST
DTSTART:20261101T070000
END:STANDARD
END:VTIMEZONE
BEGIN:VEVENT
DTSTART;TZID=America/Chicago:20251228T130000
DTEND;TZID=America/Chicago:20251228T170000
DTSTAMP:20260420T065513
CREATED:20251110T211541Z
LAST-MODIFIED:20251110T212931Z
UID:246-1766926800-1766941200@lakesidelanai.com
SUMMARY:December Birthday House Concert
DESCRIPTION:This will be a celebration of all the birthdays that occur in December (Really all year long). Especially Jimmy Buffett and Dan Sullivan. Join musicians Eric Erdman\, Jonas Lorence Trio\, and Dan Sullivan in a “house” concert at the Port Aransas Community Theatre from 1 PM to 5 PM on December 28th.
URL:https://lakesidelanai.com/event/december-birthday-house-concert/
LOCATION:Port Aransas Community Theatre\, 2327 TX-361\, Port Aransas\, TX\, 78373\, United States
END:VEVENT
END:VCALENDAR